BEGIN:VCALENDAR
VERSION:2.0
PRODID:-//Pink Ribbon Blue Skies Foundation, Inc. - ECPv6.15.19//NONSGML v1.0//EN
CALSCALE:GREGORIAN
METHOD:PUBLISH
X-WR-CALNAME:Pink Ribbon Blue Skies Foundation, Inc.
X-ORIGINAL-URL:https://prbsf.org
X-WR-CALDESC:Events for Pink Ribbon Blue Skies Foundation, Inc.
REFRESH-INTERVAL;VALUE=DURATION:PT1H
X-Robots-Tag:noindex
X-PUBLISHED-TTL:PT1H
BEGIN:VTIMEZONE
TZID:UTC
BEGIN:STANDARD
TZOFFSETFROM:+0000
TZOFFSETTO:+0000
TZNAME:UTC
DTSTART:20220101T000000
END:STANDARD
END:VTIMEZONE
BEGIN:VEVENT
DTSTART;TZID=UTC:20260131T090000
DTEND;TZID=UTC:20260131T103000
DTSTAMP:20260424T001846
CREATED:20251212T175135Z
LAST-MODIFIED:20251213T132320Z
UID:4471-1769850000-1769855400@prbsf.org
SUMMARY:Campfire Breakfast Fundraiser
DESCRIPTION:Campfire Breakfast Fundraiser\nWhen: Saturday January 31st 9am-10:30am \nWhere: Longhorn Steakhouse | 9276 Arlington Expy. Jacksonville\, FL 32225 \nPurchase Tickets: https://www.zeffy.com/en-US/ticketing/campfire-breakfast
URL:https://prbsf.org/event/campfire-breakfast-fundraiser/
ATTACH;FMTTYPE=image/jpeg:https://prbsf.org/wp-content/uploads/2025/12/Campfire-breakfast-2026-1.jpeg
END:VEVENT
BEGIN:VEVENT
DTSTART;TZID=UTC:20251115T100000
DTEND;TZID=UTC:20251115T130000
DTSTAMP:20260424T001846
CREATED:20240414T114338Z
LAST-MODIFIED:20250913T115622Z
UID:3389-1763200800-1763211600@prbsf.org
SUMMARY:6th Annual Stuff the Trunk Food Drive
DESCRIPTION:Join us with our annual event “Stuff the Trunk” \nWhen: November 15th 10am-1pm \nWhere: 9276 Arlington Expy\, Jacksonville\, FL 32225 \nDonation Food List: https://prbsf.org/wp-content/uploads/2024/09/Stuff-the-Trunk-2024-Food-List-compressed.pdf \n \n 
URL:https://prbsf.org/event/stuff-the-trunk-food-drive-2/
ATTACH;FMTTYPE=image/jpeg:https://prbsf.org/wp-content/uploads/2024/04/B2EE555F-8DBE-4F98-B9A4-2AFFD42EB917-1.jpeg
END:VEVENT
BEGIN:VEVENT
DTSTART;TZID=UTC:20250803T160000
DTEND;TZID=UTC:20250803T220000
DTSTAMP:20260424T001846
CREATED:20250516T142843Z
LAST-MODIFIED:20250605T131000Z
UID:4064-1754236800-1754258400@prbsf.org
SUMMARY:Linen & Luxe: 50 Shades
DESCRIPTION:Linen & Luxe: 50 Shades\nThe Coastal Day Party\nWhen: August 3\, 2025 4:00pm \nRSVP: https://www.zeffy.com/ticketing/linen-and-luxe-50-shades
URL:https://prbsf.org/event/linen-luxe-50-shades/
ATTACH;FMTTYPE=image/jpeg:https://prbsf.org/wp-content/uploads/2025/06/Image-5-1.jpg
END:VEVENT
BEGIN:VEVENT
DTSTART;TZID=UTC:20250329T190000
DTEND;TZID=UTC:20250330T000000
DTSTAMP:20260424T001846
CREATED:20240927T234923Z
LAST-MODIFIED:20250222T224133Z
UID:3553-1743274800-1743292800@prbsf.org
SUMMARY:Victory Beyond Cancer Gala
DESCRIPTION:Buy Tickets- https://www.zeffy.com/ticketing/victory-beyond-cancer-gala-of-resilience \nAll White VIP Experience- March 28th\, 2025 | 7:30pm to 10:30pm | @Sheraton Hotel 10605 Deerwood Park Blvd Jacksonville\, FL 32256
URL:https://prbsf.org/event/victory-beyond-cancer-gala/
END:VEVENT
BEGIN:VEVENT
DTSTART;TZID=UTC:20240316T190000
DTEND;TZID=UTC:20240316T230000
DTSTAMP:20260424T001846
CREATED:20230614T221759Z
LAST-MODIFIED:20240209T172911Z
UID:2214-1710615600-1710630000@prbsf.org
SUMMARY:2nd Annual Survivor Strong Celebration
DESCRIPTION:  \n \nTo RSVP to this event please fill out this form- https://form.jotform.com/232998560569071 \n 
URL:https://prbsf.org/event/survivor-strong-celebration/
END:VEVENT
BEGIN:VEVENT
DTSTART;TZID=UTC:20231014T100000
DTEND;TZID=UTC:20231014T150000
DTSTAMP:20260424T001846
CREATED:20230614T221708Z
LAST-MODIFIED:20230905T014627Z
UID:2212-1697277600-1697295600@prbsf.org
SUMMARY:Stuff the Trunk Food Drive
DESCRIPTION:Join us with our annual event “Stuff the Trunk” at Sprouts \nStuff the Trunk Food-List- https://prbsf.org/wp-content/uploads/2023/09/Stuff-the-Trunk-2023-Food-List-compressed.pdf
URL:https://prbsf.org/event/stuff-the-trunk-food-drive/
LOCATION:Sprouts Grocery Store\, 12675 Beach Blvd #200\, Jacksonville\, FL\, 32246\, United States
END:VEVENT
BEGIN:VEVENT
DTSTART;TZID=UTC:20230916T110000
DTEND;TZID=UTC:20230916T140000
DTSTAMP:20260424T001846
CREATED:20230614T221523Z
LAST-MODIFIED:20230904T160906Z
UID:2210-1694862000-1694872800@prbsf.org
SUMMARY:I Am My Brother's Keeper Education Symposium
DESCRIPTION:Celebrate with us in shades of blue as we kick off our inaugural Prostate Education Symposium hosted by Pink Ribbon Blue Skies Foundation\, Inc. with Guest Speaker Dr. Guarav Trikha\, MD. \nTo RSVP please fill out this form- Event Fundraising Form (jotform.com)
URL:https://prbsf.org/event/i-am-my-brothers-keeper-education-symposium/
LOCATION:Seasons 52\, 5096 Big Island Drive\, Jacksonville\, FL\, 32246\, United States
END:VEVENT
END:VCALENDAR