BEGIN:VCALENDAR
VERSION:2.0
PRODID:-//Pink Ribbon Blue Skies Foundation, Inc. - ECPv6.15.19//NONSGML v1.0//EN
CALSCALE:GREGORIAN
METHOD:PUBLISH
X-WR-CALNAME:Pink Ribbon Blue Skies Foundation, Inc.
X-ORIGINAL-URL:https://prbsf.org
X-WR-CALDESC:Events for Pink Ribbon Blue Skies Foundation, Inc.
REFRESH-INTERVAL;VALUE=DURATION:PT1H
X-Robots-Tag:noindex
X-PUBLISHED-TTL:PT1H
BEGIN:VTIMEZONE
TZID:UTC
BEGIN:STANDARD
TZOFFSETFROM:+0000
TZOFFSETTO:+0000
TZNAME:UTC
DTSTART:20220101T000000
END:STANDARD
END:VTIMEZONE
BEGIN:VEVENT
DTSTART;TZID=UTC:20231014T100000
DTEND;TZID=UTC:20231014T150000
DTSTAMP:20260425T161107
CREATED:20230614T221708Z
LAST-MODIFIED:20230905T014627Z
UID:2212-1697277600-1697295600@prbsf.org
SUMMARY:Stuff the Trunk Food Drive
DESCRIPTION:Join us with our annual event “Stuff the Trunk” at Sprouts \nStuff the Trunk Food-List- https://prbsf.org/wp-content/uploads/2023/09/Stuff-the-Trunk-2023-Food-List-compressed.pdf
URL:https://prbsf.org/event/stuff-the-trunk-food-drive/
LOCATION:Sprouts Grocery Store\, 12675 Beach Blvd #200\, Jacksonville\, FL\, 32246\, United States
END:VEVENT
END:VCALENDAR