BEGIN:VCALENDAR
VERSION:2.0
PRODID:-//Pink Ribbon Blue Skies Foundation, Inc. - ECPv6.15.19//NONSGML v1.0//EN
CALSCALE:GREGORIAN
METHOD:PUBLISH
X-ORIGINAL-URL:https://prbsf.org
X-WR-CALDESC:Events for Pink Ribbon Blue Skies Foundation, Inc.
REFRESH-INTERVAL;VALUE=DURATION:PT1H
X-Robots-Tag:noindex
X-PUBLISHED-TTL:PT1H
BEGIN:VTIMEZONE
TZID:UTC
BEGIN:STANDARD
TZOFFSETFROM:+0000
TZOFFSETTO:+0000
TZNAME:UTC
DTSTART:20240101T000000
END:STANDARD
END:VTIMEZONE
BEGIN:VEVENT
DTSTART;TZID=UTC:20250803T160000
DTEND;TZID=UTC:20250803T220000
DTSTAMP:20260424T061144
CREATED:20250516T142843Z
LAST-MODIFIED:20250605T131000Z
UID:4064-1754236800-1754258400@prbsf.org
SUMMARY:Linen & Luxe: 50 Shades
DESCRIPTION:Linen & Luxe: 50 Shades\nThe Coastal Day Party\nWhen: August 3\, 2025 4:00pm \nRSVP: https://www.zeffy.com/ticketing/linen-and-luxe-50-shades
URL:https://prbsf.org/event/linen-luxe-50-shades/
ATTACH;FMTTYPE=image/jpeg:https://prbsf.org/wp-content/uploads/2025/06/Image-5-1.jpg
END:VEVENT
END:VCALENDAR